BEGIN:VCALENDAR
VERSION:2.0
PRODID:-//wp-events-plugin.com//7.2.3.1//EN
TZID:Europe/London
X-WR-TIMEZONE:Europe/London
BEGIN:VEVENT
UID:436@makeitealing.co.uk
DTSTART;TZID=Europe/London:20240509T183000
DTEND;TZID=Europe/London:20240509T230000
DTSTAMP:20240502T151722Z
URL:https://www.makeitealing.co.uk/events/20s-30s-social-beerkat/
SUMMARY:20s & 30s Social @ BeerKat
DESCRIPTION:The aim of this event is to provide a platform for everyone to 
 engage in lively conversations\, exchange ideas\, and foster new relations
 hips. Whether you're new to the area or a long-time resident\, we encourag
 e you to come along and make the most of this opportunity to meet new peop
 le and build meaningful connections.\nYou'll have the chance to socialize 
 with other attendees\, exchange contact details\, and perhaps even plan fu
 ture meetups. We hope you'll join us for what promises to be a fun and mem
 orable evening.\nAlso there will be happy hour at BeerKat. See prices belo
 w\nAmstel £4\nSonar Pale £5\nHouse spirit + Mixer £5\nHouse wine Large 
 £5.50 Bottle £16\nFor more information\, please click here.
ATTACH;FMTTYPE=image/jpeg:https://www.makeitealing.co.uk/wp-content/upload
 s/2024/05/beerkat-social.png
CATEGORIES:Special Events
END:VEVENT
BEGIN:VTIMEZONE
TZID:Europe/London
X-LIC-LOCATION:Europe/London
BEGIN:DAYLIGHT
DTSTART:20240331T020000
TZOFFSETFROM:+0000
TZOFFSETTO:+0100
TZNAME:BST
END:DAYLIGHT
END:VTIMEZONE
END:VCALENDAR