BEGIN:VCALENDAR
VERSION:2.0
PRODID:-//wp-events-plugin.com//7.2.3.1//EN
TZID:Europe/London
X-WR-TIMEZONE:Europe/London
BEGIN:VEVENT
UID:483@makeitealing.co.uk
DTSTART;TZID=Europe/London:20241215T163000
DTEND;TZID=Europe/London:20241215T200000
DTSTAMP:20241108T140409Z
URL:https://www.makeitealing.co.uk/events/carole-service-with-redeemer-chu
 rch/
SUMMARY:Carols by Candlelight with Redeemer Church
DESCRIPTION:Join Redeemer Church at UWL for a Christmas Carol by Candleligh
 t Service\n\nMore information HERE
ATTACH;FMTTYPE=image/jpeg:https://www.makeitealing.co.uk/wp-content/upload
 s/2024/11/Carols-by-Candlelight-whats-on.png
CATEGORIES:Entertainment,Family Fun
END:VEVENT
BEGIN:VTIMEZONE
TZID:Europe/London
X-LIC-LOCATION:Europe/London
BEGIN:STANDARD
DTSTART:20241027T010000
TZOFFSETFROM:+0100
TZOFFSETTO:+0000
TZNAME:GMT
END:STANDARD
END:VTIMEZONE
END:VCALENDAR