BEGIN:VCALENDAR
VERSION:2.0
PRODID:-//wp-events-plugin.com//7.2.3.1//EN
TZID:Europe/London
X-WR-TIMEZONE:Europe/London
BEGIN:VEVENT
UID:696@makeitealing.co.uk
DTSTART;TZID=Europe/London:20250709T000000
DTEND;TZID=Europe/London:20250712T223000
DTSTAMP:20250617T131258Z
URL:https://www.makeitealing.co.uk/events/ealing-beer-festival/
SUMMARY:Ealing Beer Festival
DESCRIPTION:We are pleased to announce the 34th Ealing Beer Festival will 
 be returning to Walpole Park\, Ealing W5 from the 9th – 12th July 2025
 \n\nAdmission tickets are available on the door\, however advance tickets
  are available online\, offering the benefit of guaranteed entry in a pri
 ority queue at no extra charge.\n\n&nbsp\;\n
ATTACH;FMTTYPE=image/jpeg:https://www.makeitealing.co.uk/wp-content/upload
 s/2025/06/beer-festival.png
CATEGORIES:Art &amp; Culture,Entertainment,Family Fun
END:VEVENT
BEGIN:VTIMEZONE
TZID:Europe/London
X-LIC-LOCATION:Europe/London
BEGIN:DAYLIGHT
DTSTART:20250330T020000
TZOFFSETFROM:+0000
TZOFFSETTO:+0100
TZNAME:BST
END:DAYLIGHT
END:VTIMEZONE
END:VCALENDAR