BEGIN:VCALENDAR
VERSION:2.0
PRODID:-//wp-events-plugin.com//7.2.3.1//EN
TZID:Europe/London
X-WR-TIMEZONE:Europe/London
BEGIN:VEVENT
UID:759@makeitealing.co.uk
DTSTART;TZID=Europe/London:20260801T000000
DTEND;TZID=Europe/London:20260802T235900
DTSTAMP:20260421T113548Z
URL:https://www.makeitealing.co.uk/events/ealing-blues-festival-2026/
SUMMARY:Ealing Blues Festival 2026
DESCRIPTION:The 2026 Blues Festival unfolds as a two-day celebration of leg
 acy and influence\, reflecting Ealing’s status as the birthplace of Brit
 ish blues. \n\nSaturday anchors the weekend in heritage blues and blues-r
 ock\, while Sunday explores the powerful legacy of Jamaican blues and its 
 influence on British music — from sound system culture to ska\, reggae a
 nd beyond. \n\nTickets &amp\; More
ATTACH;FMTTYPE=image/jpeg:https://www.makeitealing.co.uk/wp-content/upload
 s/2026/04/ska-festival-1.png
CATEGORIES:Art &amp; Culture,Entertainment,Family Fun
LOCATION:Walpole Park\, Mattock Lane\, London\, W5 5EQ\, United Kingdom
X-APPLE-STRUCTURED-LOCATION;VALUE=URI;X-ADDRESS=Mattock Lane\, London\, W5 
 5EQ\, United Kingdom;X-APPLE-RADIUS=100;X-TITLE=Walpole Park:geo:0,0
END:VEVENT
BEGIN:VTIMEZONE
TZID:Europe/London
X-LIC-LOCATION:Europe/London
BEGIN:DAYLIGHT
DTSTART:20260329T020000
TZOFFSETFROM:+0000
TZOFFSETTO:+0100
TZNAME:BST
END:DAYLIGHT
END:VTIMEZONE
END:VCALENDAR