BEGIN:VCALENDAR
VERSION:2.0
PRODID:-//wp-events-plugin.com//7.2.3.1//EN
TZID:Europe/London
X-WR-TIMEZONE:Europe/London
BEGIN:VEVENT
UID:761@makeitealing.co.uk
DTSTART;TZID=Europe/London;VALUE=DATE:20260730
DTEND;TZID=Europe/London;VALUE=DATE:20260801
DTSTAMP:20260421T115515Z
URL:https://www.makeitealing.co.uk/events/ealing-comedy-festival-2026-2/
SUMMARY:Ealing Comedy Festival 2026
DESCRIPTION:Grab your friends\, your sense of humour\, and maybe a drink or
  two\, because this is where punchlines land hard and the good times don
 ’t stop.\n\nTickets &amp\; More
ATTACH;FMTTYPE=image/jpeg:https://www.makeitealing.co.uk/wp-content/upload
 s/2026/04/comedy-festival.png
CATEGORIES:Art &amp; Culture,Entertainment,Family Fun
LOCATION:Walpole Park\, Mattock Lane\, London\, W5 5EQ\, United Kingdom
X-APPLE-STRUCTURED-LOCATION;VALUE=URI;X-ADDRESS=Mattock Lane\, London\, W5 
 5EQ\, United Kingdom;X-APPLE-RADIUS=100;X-TITLE=Walpole Park:geo:0,0
END:VEVENT
BEGIN:VTIMEZONE
TZID:Europe/London
X-LIC-LOCATION:Europe/London
BEGIN:DAYLIGHT
DTSTART:20260329T020000
TZOFFSETFROM:+0000
TZOFFSETTO:+0100
TZNAME:BST
END:DAYLIGHT
END:VTIMEZONE
END:VCALENDAR