BEGIN:VCALENDAR
VERSION:2.0
PRODID:-//wp-events-plugin.com//7.2.3.1//EN
TZID:Europe/London
X-WR-TIMEZONE:Europe/London
BEGIN:VEVENT
UID:697@makeitealing.co.uk
DTSTART;TZID=Europe/London:20250802T130000
DTEND;TZID=Europe/London:20250803T220000
DTSTAMP:20250617T142858Z
URL:https://www.makeitealing.co.uk/events/ealing-jazz-festival-2025/
SUMMARY:Ealing Jazz Festival 2025
DESCRIPTION:\n\nCELEBRATING 40+ YEARS OF JAZZ &amp\; WORLD MUSIC IN EALING\
 n\n\n\n\n\nThis year\, the Ealing Jazz Festival proudly celebrates an in
 credible 41 years of bringing the perfect blend of heritage\, tradition 
 and fresh talent. Jazz is experiencing a new resurgence\, with fresh\, gro
 undbreaking artists redefining the genres and reaching new audiences. From
  Acid Jazz with it’s deep basslines and fusion of jazz\, funk\, and so
 ul to Afrobeat that blends cultures and rhythms\, there’s an incredibl
 e energy buzzing through the music scene right now. These artists are brea
 king boundaries\, blending tradition with innovation\, and proving that th
 e magic of music really knows no borders. You’ll find nods to the Jazz
  artists who shaped the festival’s early days\, to an iconic performance
  from one of Ealing’s most celebrated bands of the last 30 years\, alon
 gside performances from cutting-edge musicians shaking up the scene toda
 y. It’s a celebration of the festival’s rich history and a spotlight
  on the vibrant future of jazz – something truly special for both lon
 gtime fans and newcomers alike!\n\n\n\n&nbsp\;\n\nClick HERE for more inf
 ormation\, Ticekts\, full lineup and stage times\n\n\n&nbsp\;\n\n
ATTACH;FMTTYPE=image/jpeg:https://www.makeitealing.co.uk/wp-content/upload
 s/2025/06/Ealing-Jazz-2025-300x116-1.png
CATEGORIES:Art &amp; Culture,Entertainment,Family Fun
LOCATION:WALPOLE PARK EALING Mattock Ln\,  Mattock Ln\, London W5 5EQ\, Lon
 don\, London\, W5 5EQ\, United Kingdom
X-APPLE-STRUCTURED-LOCATION;VALUE=URI;X-ADDRESS= Mattock Ln\, London W5 5EQ
 \, London\, London\, W5 5EQ\, United Kingdom;X-APPLE-RADIUS=100;X-TITLE=WA
 LPOLE PARK EALING Mattock Ln:geo:0,0
END:VEVENT
BEGIN:VTIMEZONE
TZID:Europe/London
X-LIC-LOCATION:Europe/London
BEGIN:DAYLIGHT
DTSTART:20250330T020000
TZOFFSETFROM:+0000
TZOFFSETTO:+0100
TZNAME:BST
END:DAYLIGHT
END:VTIMEZONE
END:VCALENDAR