BEGIN:VCALENDAR
VERSION:2.0
PRODID:-//wp-events-plugin.com//7.2.3.1//EN
TZID:Europe/London
X-WR-TIMEZONE:Europe/London
BEGIN:VEVENT
UID:758@makeitealing.co.uk
DTSTART;TZID=Europe/London;VALUE=DATE:20260725
DTEND;TZID=Europe/London;VALUE=DATE:20260727
DTSTAMP:20260421T113004Z
URL:https://www.makeitealing.co.uk/events/ealing-jazz-festival-2026/
SUMMARY:Ealing Jazz Festival 2026
DESCRIPTION:The 2026 Jazz Festival celebrates both heritage and evolution
 \, building on a legacy in Walpole Park that stretches back to 1984. \n\n
 Saturday’s programme is rooted in groove-led acid jazz\, crossover sound
 s and heritage influences that reflect Ealing’s rich musical identity 
 — balancing tradition with accessibility and energy. On Sunday\, the foc
 us shifts towards a more global and forward-looking sound\, spotlighting i
 nternational influences\, emerging talent and the contemporary movements r
 eshaping jazz today. \n\nTickets &amp\; More 
ATTACH;FMTTYPE=image/jpeg:https://www.makeitealing.co.uk/wp-content/upload
 s/2026/04/Jazz-Festival.png
CATEGORIES:Art &amp; Culture,Entertainment,Family Fun
LOCATION:Walpole Park\, Mattock Lane\, London\, W5 5EQ\, United Kingdom
X-APPLE-STRUCTURED-LOCATION;VALUE=URI;X-ADDRESS=Mattock Lane\, London\, W5 
 5EQ\, United Kingdom;X-APPLE-RADIUS=100;X-TITLE=Walpole Park:geo:0,0
END:VEVENT
BEGIN:VTIMEZONE
TZID:Europe/London
X-LIC-LOCATION:Europe/London
BEGIN:DAYLIGHT
DTSTART:20260329T020000
TZOFFSETFROM:+0000
TZOFFSETTO:+0100
TZNAME:BST
END:DAYLIGHT
END:VTIMEZONE
END:VCALENDAR