BEGIN:VCALENDAR
VERSION:2.0
PRODID:-//wp-events-plugin.com//7.2.3.1//EN
TZID:Europe/London
X-WR-TIMEZONE:Europe/London
BEGIN:VEVENT
UID:466@makeitealing.co.uk
DTSTART;TZID=Europe/London;VALUE=DATE:20240803
DTEND;TZID=Europe/London;VALUE=DATE:20240901
DTSTAMP:20240816T101709Z
URL:https://www.makeitealing.co.uk/events/ealing-project-3-generations-ii-
 art-exhibition/
SUMMARY:Ealing Project: 3 GENERATIONS II Art Exhibition
DESCRIPTION:3 GENERATIONS II Art Exhibition\n\nJoin us this August for a un
 ique celebration of artistic talent spanning three generations! From conte
 mporary botanical art to comic book illustrations and vibrant textiles\, t
 here's something for everyone.\n\nFeaturing:\nAnnie Leach\, renowned botan
 ical artist\nDavid Leach\, celebrated cartoonist and comic book creator\nL
 ydia Manley-Leach\, innovative textile and graphic artist\n\nAugust 3rd - 
 31st\nFor opening times\, click here.\n\nCome meet the chance to meet the 
 artists and buy original art\, prints\, cards\, and comics!
ATTACH;FMTTYPE=image/jpeg:https://www.makeitealing.co.uk/wp-content/upload
 s/2024/08/3-generations.png
CATEGORIES:Art &amp; Culture,Special Events
LOCATION:Ealing Project\, Ealing Broadway Centre\, Ealing\, W5 5DB\, United
  Kingdom
X-APPLE-STRUCTURED-LOCATION;VALUE=URI;X-ADDRESS=Ealing Broadway Centre\, Ea
 ling\, W5 5DB\, United Kingdom;X-APPLE-RADIUS=100;X-TITLE=Ealing Project:g
 eo:0,0
END:VEVENT
BEGIN:VTIMEZONE
TZID:Europe/London
X-LIC-LOCATION:Europe/London
BEGIN:DAYLIGHT
DTSTART:20240331T020000
TZOFFSETFROM:+0000
TZOFFSETTO:+0100
TZNAME:BST
END:DAYLIGHT
END:VTIMEZONE
END:VCALENDAR