BEGIN:VCALENDAR
VERSION:2.0
PRODID:-//wp-events-plugin.com//7.2.3.1//EN
TZID:Europe/London
X-WR-TIMEZONE:Europe/London
BEGIN:VEVENT
UID:459@makeitealing.co.uk
DTSTART;TZID=Europe/London:20240726T140000
DTEND;TZID=Europe/London:20240826T180000
DTSTAMP:20240724T112458Z
URL:https://www.makeitealing.co.uk/events/filmworks-live/
SUMMARY:Filmworks Live
DESCRIPTION:Filmworks is going live! We're hosting music in the courtyard e
 very weekend throughout the summer – and you're invited!\n\nFriday Feels
 \n6:30pm - 8:30pm\nSaturday Sessions\n2:00pm - 6:00pm\nSunday Soul\n2:00pm
  - 4:00pm\n\nFor more information please check out the website: www.filmwo
 rksealing.com
ATTACH;FMTTYPE=image/jpeg:https://www.makeitealing.co.uk/wp-content/upload
 s/2024/07/filmworks-live.png
CATEGORIES:Art &amp; Culture,Entertainment
LOCATION:Filmworks\, 56-61 New Broadway\,\, Ealing\, W5 5AH\, United Kingdo
 m
X-APPLE-STRUCTURED-LOCATION;VALUE=URI;X-ADDRESS=56-61 New Broadway\,\, Eali
 ng\, W5 5AH\, United Kingdom;X-APPLE-RADIUS=100;X-TITLE=Filmworks:geo:0,0
END:VEVENT
BEGIN:VTIMEZONE
TZID:Europe/London
X-LIC-LOCATION:Europe/London
BEGIN:DAYLIGHT
DTSTART:20240331T020000
TZOFFSETFROM:+0000
TZOFFSETTO:+0100
TZNAME:BST
END:DAYLIGHT
END:VTIMEZONE
END:VCALENDAR