BEGIN:VCALENDAR
VERSION:2.0
PRODID:-//wp-events-plugin.com//7.2.3.1//EN
TZID:Europe/London
X-WR-TIMEZONE:Europe/London
BEGIN:VEVENT
UID:707@makeitealing.co.uk
DTSTART;TZID=Europe/London:20250923T093000
DTEND;TZID=Europe/London:20250923T113000
DTSTAMP:20250910T101709Z
URL:https://www.makeitealing.co.uk/events/free-business-breakfast-to-help-
 your-business-grow/
SUMMARY:FREE Business Breakfast to help your business grow
DESCRIPTION:Join us for a morning of networking and business insights at ou
 r Good for Ealing Business Breakfast event!\n\nClick here for tickets!\n\n
 &nbsp\;\n\n&nbsp\;
ATTACH;FMTTYPE=image/jpeg:https://www.makeitealing.co.uk/wp-content/upload
 s/2025/09/Business-breaKFAST.png
CATEGORIES:Featured
LOCATION:OPEN Ealing\, Unit 14 Dickens Yard \,  London\, W5 2TD\, United Ki
 ngdom
X-APPLE-STRUCTURED-LOCATION;VALUE=URI;X-ADDRESS=Unit 14 Dickens Yard \,  Lo
 ndon\, W5 2TD\, United Kingdom;X-APPLE-RADIUS=100;X-TITLE=OPEN Ealing:geo:
 0,0
END:VEVENT
BEGIN:VTIMEZONE
TZID:Europe/London
X-LIC-LOCATION:Europe/London
BEGIN:DAYLIGHT
DTSTART:20250330T020000
TZOFFSETFROM:+0000
TZOFFSETTO:+0100
TZNAME:BST
END:DAYLIGHT
END:VTIMEZONE
END:VCALENDAR