BEGIN:VCALENDAR
VERSION:2.0
PRODID:-//wp-events-plugin.com//7.2.3.1//EN
TZID:Europe/London
X-WR-TIMEZONE:Europe/London
BEGIN:VEVENT
UID:744@makeitealing.co.uk
DTSTART;TZID=Europe/London:20260321T170000
DTEND;TZID=Europe/London:20260321T190000
DTSTAMP:20260311T155238Z
URL:https://www.makeitealing.co.uk/events/id-studios-ladies-who-ritmo-hous
 e/
SUMMARY:iD Studios: Ladies Who… Ritmo House
DESCRIPTION:Bad Bunny blasting. We’re sweating. We’re perreando. Beginn
 er-friendly HIIT but make it spicy\n\n\n\n\n@ladieswhomovement\nLadies… 
 are you ready?\n\nBad Bunny. Dembow. A little perreo between squats.\nThis
  is not your typical workout. It’s a whole experience.\n\nBeginner-frien
 dly HIIT\, open to all levels\, whether you’re brand new or already fami
 liar with working out. We open this space for you.\n\nEntonces chicas. ( S
 o girls)\n\nBe there. Or hear about it later.\n\n\n\n\n&nbsp\;\n\nGet your
  tickets here
ATTACH;FMTTYPE=image/jpeg:https://www.makeitealing.co.uk/wp-content/upload
 s/2026/03/ID-Studios-Event-Edit-V2-png.png
CATEGORIES:Art &amp; Culture,Entertainment,Hobbies &amp; Keep-Fit
END:VEVENT
BEGIN:VTIMEZONE
TZID:Europe/London
X-LIC-LOCATION:Europe/London
BEGIN:STANDARD
DTSTART:20251026T010000
TZOFFSETFROM:+0100
TZOFFSETTO:+0000
TZNAME:GMT
END:STANDARD
END:VTIMEZONE
END:VCALENDAR