BEGIN:VCALENDAR
VERSION:2.0
PRODID:-//wp-events-plugin.com//7.2.3.1//EN
TZID:Europe/London
X-WR-TIMEZONE:Europe/London
BEGIN:VEVENT
UID:478@makeitealing.co.uk
DTSTART;TZID=Europe/London:20241130T140000
DTEND;TZID=Europe/London:20241130T170000
DTSTAMP:20241129T111149Z
URL:https://www.makeitealing.co.uk/events/join-make-it-ealing-at-filmworks
 -for-christmas-carols/
SUMMARY:Join Make it Ealing at Filmworks for Christmas Carols
DESCRIPTION:Join us at Filmworks on Saturday 30th\, November\, for joyful C
 hristmas entertainment from local Schools and entertainment groups from 2 
 pm.\nAlong with the incredible acts listed below\, there will also be a fa
 mily disco\, free face painting\, Christmas tree bauble crafting\, and a l
 etter to Father Christmas table. Father Christmas himself will also be att
 ending!\nJoin us for this free family fun day and meet the fabulous Breakf
 ast TV personality Dr Sara Kayat who will be switching on the tree at dusk
  to start your Christmas celebrations at Filmworks.\n\n\n 	Dance Gallery -
  https://dancegallery.co.uk/\n 	Montpelier School - https://www.montpelier
 school.net/\n 	I Want 2 Sing - https://www.iwant2sing.co.uk/\n 	Pamela How
 ard School of Dance - https://phsd.co.uk/\n 	Clifton Lodge School - https:
 //www.cliftonlodgeschool.co.uk/\n 	Voices Singing School - https://www.voi
 cessingingschool.co.uk/\n 	St Gregory’s Catholic Primary School - https:
 //www.st-gregorys.ealing.sch.uk/\n 	Drayton Green Primary School - https:/
 /www.draytongreen.ealing.sch.uk/\n 	Stage Coach Ealing Broadway - https://
 www.stagecoach.co.uk/acton\n 	Love2Sing - https://www.love2sing.co.uk/\n 	
 Questors - https://www.questors.org.uk/\n\n\n\n&nbsp\;\n\n
ATTACH;FMTTYPE=image/jpeg:https://www.makeitealing.co.uk/wp-content/upload
 s/2024/11/CHRISTMAS-CAROLS-WEB-HEAD.png
CATEGORIES:Entertainment,Family Fun,Featured,Special Events
LOCATION:FILMWORKS\, FILMWORKS WALK \, EALING \, W5 5AH\, United Kingdom
X-APPLE-STRUCTURED-LOCATION;VALUE=URI;X-ADDRESS=FILMWORKS WALK \, EALING \,
  W5 5AH\, United Kingdom;X-APPLE-RADIUS=100;X-TITLE=FILMWORKS:geo:0,0
END:VEVENT
BEGIN:VTIMEZONE
TZID:Europe/London
X-LIC-LOCATION:Europe/London
BEGIN:STANDARD
DTSTART:20241027T010000
TZOFFSETFROM:+0100
TZOFFSETTO:+0000
TZNAME:GMT
END:STANDARD
END:VTIMEZONE
END:VCALENDAR