BEGIN:VCALENDAR
VERSION:2.0
PRODID:-//wp-events-plugin.com//7.2.3.1//EN
TZID:Europe/London
X-WR-TIMEZONE:Europe/London
BEGIN:VEVENT
UID:454@makeitealing.co.uk
DTSTART;TZID=Europe/London:20240724T120000
DTEND;TZID=Europe/London:20240724T213000
DTSTAMP:20240709T113447Z
URL:https://www.makeitealing.co.uk/events/new-gen-festival/
SUMMARY:New Gen Festival
DESCRIPTION:New Gen Festival\, Ealing’s festival ‘by and for youth’\,
  takes place in Walpole Park on Wednesday 24 July 2024 from noon till 9.30
 pm. New Gen is a platform for the next generation of talent\, with emergin
 g artists sharing the stage with our live music headliners\, and local dan
 ce groups leading workshops and showcases. New Gen is the place to find ou
 t about careers in the screen industry\, have a go at creative tasters fro
 m art and drumming to filming\, chill out in the Mind Zone\, and discover 
 something new at our community takeovers.\n\nNew Gen is a collaboration be
 tween Ealing Council and partner organisations working with young people l
 ike JE Delve\, Descendants\, DIAXPORA\, Elevate Arts\, Rebels &amp\; Pilgr
 ims\, Southall Community Alliance\, University of West London\, and WAPPY.
 \n\nFor more info: https://newgenfestival.com\n\nFor tickets/book now: htt
 ps://sessami.co
ATTACH;FMTTYPE=image/jpeg:https://www.makeitealing.co.uk/wp-content/upload
 s/2024/07/newgen-24.png
CATEGORIES:Art &amp; Culture,Entertainment,Family Fun
LOCATION:Walpole Park\, Mattock Lane\, London\, W5 5EQ\, United Kingdom
X-APPLE-STRUCTURED-LOCATION;VALUE=URI;X-ADDRESS=Mattock Lane\, London\, W5 
 5EQ\, United Kingdom;X-APPLE-RADIUS=100;X-TITLE=Walpole Park:geo:0,0
END:VEVENT
BEGIN:VTIMEZONE
TZID:Europe/London
X-LIC-LOCATION:Europe/London
BEGIN:DAYLIGHT
DTSTART:20240331T020000
TZOFFSETFROM:+0000
TZOFFSETTO:+0100
TZNAME:BST
END:DAYLIGHT
END:VTIMEZONE
END:VCALENDAR