BEGIN:VCALENDAR
VERSION:2.0
PRODID:-//wp-events-plugin.com//7.2.3.1//EN
TZID:Europe/London
X-WR-TIMEZONE:Europe/London
BEGIN:VEVENT
UID:679@makeitealing.co.uk
DTSTART;TZID=Europe/London:20250305T100000
DTEND;TZID=Europe/London:20250615T160000
DTSTAMP:20250403T122824Z
URL:https://www.makeitealing.co.uk/events/nicole-farhis-jaccuse-opens-at-p
 itzhanger-various-dates-times/
SUMMARY:Pitzhanger Manor & Gallery - Nicole Farhi’s J’Accuse…! Opens 
 at Pitzhanger - Various Dates & Times
DESCRIPTION:A powerful new exhibition launches at Pitzhanger Manor &amp\; G
 allery. J’Accuse…! Sculptures by Nicole Farhi presents 25 busts of i
 ndividuals who were wrongfully convicted across history\, from Alfred Drey
 fus (of the notorious Dreyfus Affair) to Andrew Malkinson. This series con
 fronts the fragility of justice and the personal toll of miscarriages of j
 ustice.\n\nMore Information &amp\; Tickets
ATTACH;FMTTYPE=image/jpeg:https://www.makeitealing.co.uk/wp-content/upload
 s/2025/03/pitshanger.png
CATEGORIES:Art &amp; Culture,Entertainment,Family Fun
LOCATION:Pitzhanger Manor & Gallery\, Mattock Lane\, London\, W5 5EQ\, Unit
 ed Kingdom
X-APPLE-STRUCTURED-LOCATION;VALUE=URI;X-ADDRESS=Mattock Lane\, London\, W5 
 5EQ\, United Kingdom;X-APPLE-RADIUS=100;X-TITLE=Pitzhanger Manor & Gallery
 :geo:0,0
END:VEVENT
BEGIN:VTIMEZONE
TZID:Europe/London
X-LIC-LOCATION:Europe/London
BEGIN:STANDARD
DTSTART:20241027T010000
TZOFFSETFROM:+0100
TZOFFSETTO:+0000
TZNAME:GMT
END:STANDARD
BEGIN:DAYLIGHT
DTSTART:20250330T020000
TZOFFSETFROM:+0000
TZOFFSETTO:+0100
TZNAME:BST
END:DAYLIGHT
END:VTIMEZONE
END:VCALENDAR