BEGIN:VCALENDAR
VERSION:2.0
PRODID:-//wp-events-plugin.com//7.2.3.1//EN
TZID:Europe/London
X-WR-TIMEZONE:Europe/London
BEGIN:VEVENT
UID:738@makeitealing.co.uk
DTSTART;TZID=Europe/London;VALUE=DATE:20260224
DTEND;TZID=Europe/London;VALUE=DATE:20270225
DTSTAMP:20260224T143906Z
URL:https://www.makeitealing.co.uk/events/no1-currency-exchange-ealing/
SUMMARY:No1 Currency Exchange Ealing
DESCRIPTION:No1 Currency is offering preferential exchange rates for staff 
 working at Ealing businesses (proof of employment required).\nYou’ll als
 o benefit from their Buy Back Rate Guarantee\, so you won’t lose out on 
 unused travel money when you get home.\nPop in and see how much further yo
 ur currency could go.\nVisit the website for more information\n\n
ATTACH;FMTTYPE=image/jpeg:https://www.makeitealing.co.uk/wp-content/upload
 s/2026/02/Western-Union.png
LOCATION:11 The Broadway\, 11 The Broadway\, London \, W5 2NH\, United King
 dom
X-APPLE-STRUCTURED-LOCATION;VALUE=URI;X-ADDRESS=11 The Broadway\, London \,
  W5 2NH\, United Kingdom;X-APPLE-RADIUS=100;X-TITLE=11 The Broadway:geo:0,
 0
END:VEVENT
BEGIN:VTIMEZONE
TZID:Europe/London
X-LIC-LOCATION:Europe/London
BEGIN:STANDARD
DTSTART:20251026T010000
TZOFFSETFROM:+0100
TZOFFSETTO:+0000
TZNAME:GMT
END:STANDARD
BEGIN:DAYLIGHT
DTSTART:20260329T020000
TZOFFSETFROM:+0000
TZOFFSETTO:+0100
TZNAME:BST
END:DAYLIGHT
BEGIN:STANDARD
DTSTART:20261025T010000
TZOFFSETFROM:+0100
TZOFFSETTO:+0000
TZNAME:GMT
END:STANDARD
END:VTIMEZONE
END:VCALENDAR