BEGIN:VCALENDAR
VERSION:2.0
PRODID:-//wp-events-plugin.com//7.2.3.1//EN
TZID:Europe/London
X-WR-TIMEZONE:Europe/London
BEGIN:VEVENT
UID:529@makeitealing.co.uk
DTSTART;TZID=Europe/London:20241213T180000
DTEND;TZID=Europe/London:20241213T193000
DTSTAMP:20241122T153211Z
URL:https://www.makeitealing.co.uk/events/seasonal-scents-candle-making-wo
 rkshop-4/
SUMMARY:Seasonal Scents: Candle Making Workshop
DESCRIPTION:Get into the festive spirit with our Seasonal Scents Candle-Mak
 ing Workshop. In this small\, hands-on session you’ll craft your own cus
 tom-scented candles\, blending notes of pine\, cinnamon\, and warm winter 
 spices.\n\nGuided by skilled artisans\, this workshop offers everything yo
 u need to create the perfect holiday ambience at home or a thoughtful hand
 made gift.\n\nSign up HERE\n\n&nbsp\;
ATTACH;FMTTYPE=image/jpeg:https://www.makeitealing.co.uk/wp-content/upload
 s/2024/11/Seasonal-Scents.png
CATEGORIES:Art &amp; Culture,Markets &amp; Craft
LOCATION:Teatro Hall\, 61 New Broadway\, London\, W5 5AH\, United Kingdom
X-APPLE-STRUCTURED-LOCATION;VALUE=URI;X-ADDRESS=61 New Broadway\, London\, 
 W5 5AH\, United Kingdom;X-APPLE-RADIUS=100;X-TITLE=Teatro Hall:geo:0,0
END:VEVENT
BEGIN:VTIMEZONE
TZID:Europe/London
X-LIC-LOCATION:Europe/London
BEGIN:STANDARD
DTSTART:20241027T010000
TZOFFSETFROM:+0100
TZOFFSETTO:+0000
TZNAME:GMT
END:STANDARD
END:VTIMEZONE
END:VCALENDAR