BEGIN:VCALENDAR
VERSION:2.0
PRODID:-//wp-events-plugin.com//7.2.3.1//EN
TZID:Europe/London
X-WR-TIMEZONE:Europe/London
BEGIN:VEVENT
UID:653@makeitealing.co.uk
DTSTART;TZID=Europe/London:20250211T073000
DTEND;TZID=Europe/London:20250211T093000
DTSTAMP:20250128T103514Z
URL:https://www.makeitealing.co.uk/events/speed-dating-in-ealing-broadway-
 ages-40-to-55/
SUMMARY:Speed Dating in Ealing Broadway | Ages 40 to 55
DESCRIPTION:Join London's #1-rated dating events company and 30 likeminded 
 singles for this popular\, fun\, and fast-paced evening of introductions.\
 n\nFor tickets and more information
ATTACH;FMTTYPE=image/jpeg:https://www.makeitealing.co.uk/wp-content/upload
 s/2025/01/dating-website.png
CATEGORIES:Entertainment
END:VEVENT
BEGIN:VTIMEZONE
TZID:Europe/London
X-LIC-LOCATION:Europe/London
BEGIN:STANDARD
DTSTART:20241027T010000
TZOFFSETFROM:+0100
TZOFFSETTO:+0000
TZNAME:GMT
END:STANDARD
END:VTIMEZONE
END:VCALENDAR