BEGIN:VCALENDAR
VERSION:2.0
PRODID:-//wp-events-plugin.com//7.2.3.1//EN
TZID:Europe/London
X-WR-TIMEZONE:Europe/London
BEGIN:VEVENT
UID:498@makeitealing.co.uk
DTSTART;TZID=Europe/London:20241228T193000
DTEND;TZID=Europe/London:20241228T193000
DTSTAMP:20241115T152007Z
URL:https://www.makeitealing.co.uk/events/yayakas-music-night-3/
SUMMARY:Yayaka's Music Night
DESCRIPTION:Join Yayaka for their music night\n\nLive starts at 19:30\n\nBo
 ok Now at 07518857635\n\nyayakafood.co.uk
ATTACH;FMTTYPE=image/jpeg:https://www.makeitealing.co.uk/wp-content/upload
 s/2024/11/Yayaka-Music-Night.png
CATEGORIES:Entertainment,Family Fun
LOCATION:Yayaka Greek Granny's Corner\, Unit 3 Dickens Yard\, London\, W5 2
 TD\, United Kingdom
X-APPLE-STRUCTURED-LOCATION;VALUE=URI;X-ADDRESS=Unit 3 Dickens Yard\, Londo
 n\, W5 2TD\, United Kingdom;X-APPLE-RADIUS=100;X-TITLE=Yayaka Greek Granny
 's Corner:geo:0,0
END:VEVENT
BEGIN:VTIMEZONE
TZID:Europe/London
X-LIC-LOCATION:Europe/London
BEGIN:STANDARD
DTSTART:20241027T010000
TZOFFSETFROM:+0100
TZOFFSETTO:+0000
TZNAME:GMT
END:STANDARD
END:VTIMEZONE
END:VCALENDAR